BEGIN:VCALENDAR
PRODID:-//AT Content Types//AT Event//EN
VERSION:1.0
BEGIN:VEVENT
DTSTART:20111124T130000Z
DTEND:20111124T143000Z
DCREATED:20110908T134026Z
UID:ATEvent-8e6d133efb57e81c32709848784e4fc9
SEQUENCE:0
LAST-MODIFIED:20110908T134421Z
SUMMARY:CMP-SM
LOCATION:Lecture Room D
PRIORITY:3
TRANSP:0
END:VEVENT
END:VCALENDAR
