BEGIN:VCALENDAR
PRODID:-//AT Content Types//AT Event//EN
VERSION:1.0
BEGIN:VEVENT
DTSTART:20101213T130000Z
DTEND:20101213T143000Z
DCREATED:20100924T142622Z
UID:ATEvent-0b83217d44e7b049d9939e422724a51e
SEQUENCE:0
LAST-MODIFIED:20100924T142657Z
SUMMARY:CMP-SM
LOCATION:Lecture Room D
PRIORITY:3
TRANSP:0
END:VEVENT
END:VCALENDAR
