BEGIN:VCALENDAR
PRODID:-//AT Content Types//AT Event//EN
VERSION:2.0
METHOD:PUBLISH
BEGIN:VEVENT
DTSTAMP:20260422T095616Z
CREATED:20100923T090054Z
UID:ATEvent-3ad9c3de82bd5b4c0a1031c240a23430
LAST-MODIFIED:20101129T150959Z
SUMMARY:CMP-SM
DTSTART:20101201T100000Z
DTEND:20101201T113000Z
LOCATION:Lecture Room D
CONTACT:M. Müller
URL:https://diploma-clear.ictp.it/courses/weekly-schedule/lecture-room-d/cmp-sm-49
CLASS:PUBLIC
END:VEVENT
END:VCALENDAR
