BEGIN:VCALENDAR
PRODID:-//AT Content Types//AT Event//EN
VERSION:1.0
BEGIN:VEVENT
DTSTART:20101122T130000Z
DTEND:20101122T143000Z
DCREATED:20100922T132833Z
UID:ATEvent-f513f883f8c45df93945da19dd728777
SEQUENCE:0
LAST-MODIFIED:20101112T133956Z
SUMMARY:CMP-SM midtermexam
LOCATION:Lecture Room D
PRIORITY:3
TRANSP:0
END:VEVENT
END:VCALENDAR
