BEGIN:VCALENDAR
PRODID:-//AT Content Types//AT Event//EN
VERSION:2.0
METHOD:PUBLISH
BEGIN:VEVENT
DTSTAMP:20260422T022940Z
CREATED:20101125T123602Z
UID:ATEvent-0099225bf22a648886abb5250451fecb
LAST-MODIFIED:20101125T123636Z
SUMMARY:CMP-SM
DTSTART:20101216T130000Z
DTEND:20101216T143000Z
LOCATION:Lecture Room D
CONTACT:M. Müller
URL:https://diploma-clear.ictp.it/courses/weekly-schedule/lecture-room-d/cmp-sm-43
CLASS:PUBLIC
END:VEVENT
END:VCALENDAR
