BEGIN:VCALENDAR
PRODID:-//AT Content Types//AT Event//EN
VERSION:2.0
METHOD:PUBLISH
BEGIN:VEVENT
DTSTAMP:20260421T173019Z
CREATED:20100921T134232Z
UID:ATEvent-74133fecd9136677fd2997d228c34cb2
LAST-MODIFIED:20100921T134257Z
SUMMARY:CMP-SM
DTSTART:20101111T130000Z
DTEND:20101111T143000Z
LOCATION:Lecture Room D
CONTACT:M. Müller
URL:https://diploma-clear.ictp.it/courses/weekly-schedule/lecture-room-d/cmp-sm-41
CLASS:PUBLIC
END:VEVENT
END:VCALENDAR
