BEGIN:VCALENDAR
PRODID:-//AT Content Types//AT Event//EN
VERSION:1.0
BEGIN:VEVENT
DTSTART:20101001T070000Z
DTEND:20101001T083000Z
DCREATED:20100830T135633Z
UID:ATEvent-229a5cf0a4fc509ca97d539769722f1d
SEQUENCE:0
LAST-MODIFIED:20101004T133739Z
SUMMARY:CMP-SM tut.
LOCATION:Lecture Room D
PRIORITY:3
TRANSP:0
END:VEVENT
END:VCALENDAR
