BEGIN:VCALENDAR
PRODID:-//AT Content Types//AT Event//EN
VERSION:2.0
METHOD:PUBLISH
BEGIN:VEVENT
DTSTAMP:20260423T140416Z
CREATED:20100921T120805Z
UID:ATEvent-20af7245fb343cc30ebc850aa7d0aa4c
LAST-MODIFIED:20100921T120829Z
SUMMARY:CMP-SM
DTSTART:20101101T130000Z
DTEND:20101101T143000Z
LOCATION:Lecture Room D
CONTACT:M. Müller
URL:https://diploma-clear.ictp.it/courses/weekly-schedule/lecture-room-d/cmp-sm-28
CLASS:PUBLIC
END:VEVENT
END:VCALENDAR
