BEGIN:VCALENDAR
PRODID:-//AT Content Types//AT Event//EN
VERSION:2.0
METHOD:PUBLISH
BEGIN:VEVENT
DTSTAMP:20260420T232152Z
CREATED:20081013T101320Z
UID:ATEvent-371e4cb8b5f42f10683240dd85971527
LAST-MODIFIED:20081014T135605Z
SUMMARY:CMP-SM
DTSTART:20081105T130000Z
DTEND:20081105T143000Z
LOCATION:Lecture Room D
CONTACT:Mauro Sellitto
URL:https://diploma-clear.ictp.it/courses/weekly-schedule/lecture-room-d/cmp-sm-1
CLASS:PUBLIC
END:VEVENT
END:VCALENDAR
