BEGIN:VCALENDAR
PRODID:-//AT Content Types//AT Event//EN
VERSION:2.0
METHOD:PUBLISH
BEGIN:VEVENT
DTSTAMP:20260424T162655Z
CREATED:20200417T160552Z
UID:ATEvent-6260d816afc645e092a6bcd112c90c21
LAST-MODIFIED:20200417T160626Z
SUMMARY:CMP-NUM II EXAM
DTSTART:20200401T120000Z
DTEND:20200401T133000Z
LOCATION:Lecture Room D
CONTACT:A. Hassanali
URL:https://diploma-clear.ictp.it/courses/weekly-schedule/lecture-room-d/cmp-num-ii-exam
CLASS:PUBLIC
END:VEVENT
END:VCALENDAR
