BEGIN:VCALENDAR
PRODID:-//AT Content Types//AT Event//EN
VERSION:2.0
METHOD:PUBLISH
BEGIN:VEVENT
DTSTAMP:20260420T232153Z
CREATED:20210421T093458Z
UID:ATEvent-b9911a5dba0d4d14b99e84752782ece5
LAST-MODIFIED:20210506T131831Z
SUMMARY:CMP-NUM II
DTSTART:20210603T090000Z
DTEND:20210603T103000Z
LOCATION:Lecture Room D
URL:https://diploma-clear.ictp.it/courses/weekly-schedule/lecture-room-d/cmp-num-ii-4
CLASS:PUBLIC
END:VEVENT
END:VCALENDAR
