BEGIN:VCALENDAR
PRODID:-//AT Content Types//AT Event//EN
VERSION:1.0
BEGIN:VEVENT
DTSTART:20150907T070000Z
DTEND:20150907T083000Z
DCREATED:20150827T102933Z
UID:ATEvent-a75d7592f5c24bbfa73b9a2be57ba7f3
SEQUENCE:0
LAST-MODIFIED:20150827T103027Z
SUMMARY:CMP Mtg
LOCATION:Lecture Room D
PRIORITY:3
TRANSP:0
END:VEVENT
END:VCALENDAR
