BEGIN:VCALENDAR
PRODID:-//AT Content Types//AT Event//EN
VERSION:2.0
METHOD:PUBLISH
BEGIN:VEVENT
DTSTAMP:20260425T225129Z
CREATED:20110908T133509Z
UID:ATEvent-fb7cd6d4955f81f74eb244c37addc0ed
LAST-MODIFIED:20110908T133538Z
SUMMARY:CMP-Mtg.
DTSTART:20111118T130000Z
DTEND:20111118T143000Z
LOCATION:Lecture Room D
CONTACT:N. Seriani\, V. Lukose
URL:https://diploma-clear.ictp.it/courses/weekly-schedule/lecture-room-d/cmp-mtg-71
CLASS:PUBLIC
END:VEVENT
END:VCALENDAR
