BEGIN:VCALENDAR
PRODID:-//AT Content Types//AT Event//EN
VERSION:1.0
BEGIN:VEVENT
DTSTART:20101126T130000Z
DTEND:20101126T143000Z
DCREATED:20100922T134403Z
UID:ATEvent-ed50f2c77f9bb733fdebed139798c1b5
SEQUENCE:0
LAST-MODIFIED:20100922T134453Z
SUMMARY:CMP Mtg.
LOCATION:Lecture Room D
PRIORITY:3
TRANSP:0
END:VEVENT
END:VCALENDAR
