BEGIN:VCALENDAR
PRODID:-//AT Content Types//AT Event//EN
VERSION:1.0
BEGIN:VEVENT
DTSTART:20101119T130000Z
DTEND:20101119T143000Z
DCREATED:20100922T100820Z
UID:ATEvent-c5212122ab2b187e3937d67f60a0a7a9
SEQUENCE:0
LAST-MODIFIED:20100922T100907Z
SUMMARY:CMP Mtg.
LOCATION:Lecture Room D
PRIORITY:3
TRANSP:0
END:VEVENT
END:VCALENDAR
