BEGIN:VCALENDAR
PRODID:-//AT Content Types//AT Event//EN
VERSION:2.0
METHOD:PUBLISH
BEGIN:VEVENT
DTSTAMP:20260422T100248Z
CREATED:20090421T123841Z
UID:ATEvent-efd775d77214f40835e7eaf5d796e544
LAST-MODIFIED:20090511T132245Z
SUMMARY:CMP-Mtg.
DTSTART:20090520T120000Z
DTEND:20090520T133000Z
LOCATION:Lecture Room D
CONTACT:A. Chatterjee\, F. Franchini
URL:https://diploma-clear.ictp.it/courses/weekly-schedule/lecture-room-d/cmp-mtg-18
CLASS:PUBLIC
END:VEVENT
END:VCALENDAR
