BEGIN:VCALENDAR
PRODID:-//AT Content Types//AT Event//EN
VERSION:2.0
METHOD:PUBLISH
BEGIN:VEVENT
DTSTAMP:20260422T100306Z
CREATED:20090112T103047Z
UID:ATEvent-9fb42e135083d4b9af0aa753812f2320
LAST-MODIFIED:20090112T103130Z
SUMMARY:CMP - Mtg.
DTSTART:20090508T140000Z
DTEND:20090508T153000Z
LOCATION:Lecture Room D
CONTACT:A. Chatterjee\, F. Franchini
URL:https://diploma-clear.ictp.it/courses/weekly-schedule/lecture-room-d/cmp-mtg-17
CLASS:PUBLIC
END:VEVENT
END:VCALENDAR
