BEGIN:VCALENDAR
PRODID:-//AT Content Types//AT Event//EN
VERSION:2.0
METHOD:PUBLISH
BEGIN:VEVENT
DTSTAMP:20260421T232920Z
CREATED:20090112T095348Z
UID:ATEvent-40ce014fa7c0fe7256cea1a1d8786095
LAST-MODIFIED:20090112T095901Z
SUMMARY:CMP - Mtg.
DTSTART:20090403T140000Z
DTEND:20090403T153000Z
LOCATION:Lecture Room D
CONTACT:Arnab Chatterjee\, F. Franchini
URL:https://diploma-clear.ictp.it/courses/weekly-schedule/lecture-room-d/cmp-mtg-14
CLASS:PUBLIC
END:VEVENT
END:VCALENDAR
