BEGIN:VCALENDAR
PRODID:-//AT Content Types//AT Event//EN
VERSION:1.0
BEGIN:VEVENT
DTSTART:20180913T140000Z
DTEND:20180913T153000Z
DCREATED:20180802T134806Z
UID:ATEvent-f67654284d444bedbc2ae4e3a1ff3e97
SEQUENCE:0
LAST-MODIFIED:20180907T121224Z
SUMMARY:CMP-MT
LOCATION:Lecture Room D
PRIORITY:3
TRANSP:0
END:VEVENT
END:VCALENDAR
