BEGIN:VCALENDAR
PRODID:-//AT Content Types//AT Event//EN
VERSION:2.0
METHOD:PUBLISH
BEGIN:VEVENT
DTSTAMP:20260419T211223Z
CREATED:20140912T130951Z
UID:ATEvent-8327ac8aa02b4d5d89a14e2db4dafc87
LAST-MODIFIED:20140912T131011Z
SUMMARY:CMP-MT
DTSTART:20140926T120000Z
DTEND:20140926T133000Z
LOCATION:Lecture Room D
CONTACT:A. Nersesyan
URL:https://diploma-clear.ictp.it/courses/weekly-schedule/lecture-room-d/cmp-mt-39
CLASS:PUBLIC
END:VEVENT
END:VCALENDAR
