BEGIN:VCALENDAR
PRODID:-//AT Content Types//AT Event//EN
VERSION:2.0
METHOD:PUBLISH
BEGIN:VEVENT
DTSTAMP:20260423T013733Z
CREATED:20130920T085037Z
UID:ATEvent-922830936a7148c5b79b44750ded791a
LAST-MODIFIED:20130920T085107Z
SUMMARY:CMP-MT
DTSTART:20130924T070000Z
DTEND:20130924T083000Z
LOCATION:Lecture Room D
CONTACT:S. Scandolo
URL:https://diploma-clear.ictp.it/courses/weekly-schedule/lecture-room-d/cmp-mt-36
CLASS:PUBLIC
END:VEVENT
END:VCALENDAR
