BEGIN:VCALENDAR
PRODID:-//AT Content Types//AT Event//EN
VERSION:2.0
METHOD:PUBLISH
BEGIN:VEVENT
DTSTAMP:20260420T053042Z
CREATED:20110826T144404Z
UID:ATEvent-11a49fbbcd0b28e5beb4fcd99229d680
LAST-MODIFIED:20110826T144425Z
SUMMARY:CMP-MT
DTSTART:20110919T120000Z
DTEND:20110919T133000Z
LOCATION:Lecture Room D
CONTACT:V. Lukose
URL:https://diploma-clear.ictp.it/courses/weekly-schedule/lecture-room-d/cmp-mt-32
CLASS:PUBLIC
END:VEVENT
END:VCALENDAR
