BEGIN:VCALENDAR
PRODID:-//AT Content Types//AT Event//EN
VERSION:2.0
METHOD:PUBLISH
BEGIN:VEVENT
DTSTAMP:20260420T053012Z
CREATED:20110826T143605Z
UID:ATEvent-26a8b242d220c5f49c1f6c0a67b1d29f
LAST-MODIFIED:20110826T143617Z
SUMMARY:CMP-MT
DTSTART:20110913T120000Z
DTEND:20110913T133000Z
LOCATION:Lecture Room D
CONTACT:V. Lukose
URL:https://diploma-clear.ictp.it/courses/weekly-schedule/lecture-room-d/cmp-mt-30
CLASS:PUBLIC
END:VEVENT
END:VCALENDAR
