BEGIN:VCALENDAR
PRODID:-//AT Content Types//AT Event//EN
VERSION:2.0
METHOD:PUBLISH
BEGIN:VEVENT
DTSTAMP:20260421T102327Z
CREATED:20110826T143538Z
UID:ATEvent-9155352787749944c1907508abc78a58
LAST-MODIFIED:20110826T143553Z
SUMMARY:CMP-MT
DTSTART:20110912T120000Z
DTEND:20110912T133000Z
LOCATION:Lecture Room D
CONTACT:V. Lukose
URL:https://diploma-clear.ictp.it/courses/weekly-schedule/lecture-room-d/cmp-mt-29
CLASS:PUBLIC
END:VEVENT
END:VCALENDAR
