BEGIN:VCALENDAR
PRODID:-//AT Content Types//AT Event//EN
VERSION:2.0
METHOD:PUBLISH
BEGIN:VEVENT
DTSTAMP:20260421T225235Z
CREATED:20110826T141626Z
UID:ATEvent-c8af22e65973b966aef72157d2ebc40b
LAST-MODIFIED:20110826T141655Z
SUMMARY:CMP-MT
DTSTART:20110908T120000Z
DTEND:20110908T133000Z
LOCATION:Lecture Room D
CONTACT:V. Lukose
URL:https://diploma-clear.ictp.it/courses/weekly-schedule/lecture-room-d/cmp-mt-27
CLASS:PUBLIC
END:VEVENT
END:VCALENDAR
