BEGIN:VCALENDAR
PRODID:-//AT Content Types//AT Event//EN
VERSION:2.0
METHOD:PUBLISH
BEGIN:VEVENT
DTSTAMP:20260423T045545Z
CREATED:20100830T131328Z
UID:ATEvent-5103f635b9435b89295df751874bc7fe
LAST-MODIFIED:20100830T131359Z
SUMMARY:CMP-MT
DTSTART:20100927T120000Z
DTEND:20100927T133000Z
LOCATION:Lecture Room D
CONTACT:F. Franchini
URL:https://diploma-clear.ictp.it/courses/weekly-schedule/lecture-room-d/cmp-mt-17
CLASS:PUBLIC
END:VEVENT
END:VCALENDAR
