BEGIN:VCALENDAR
PRODID:-//AT Content Types//AT Event//EN
VERSION:2.0
METHOD:PUBLISH
BEGIN:VEVENT
DTSTAMP:20260422T095501Z
CREATED:20100828T112144Z
UID:ATEvent-bc9ce2bffa0d90140f3393855b220cd7
LAST-MODIFIED:20100828T112218Z
SUMMARY:CMP-MT
DTSTART:20100924T120000Z
DTEND:20100924T133000Z
LOCATION:Lecture Room D
CONTACT:F. Franchini
URL:https://diploma-clear.ictp.it/courses/weekly-schedule/lecture-room-d/cmp-mt-16
CLASS:PUBLIC
END:VEVENT
END:VCALENDAR
