BEGIN:VCALENDAR
PRODID:-//AT Content Types//AT Event//EN
VERSION:2.0
METHOD:PUBLISH
BEGIN:VEVENT
DTSTAMP:20260423T045530Z
CREATED:20100828T112002Z
UID:ATEvent-61a239c55a75fa725ef19c94adc4978c
LAST-MODIFIED:20100828T112041Z
SUMMARY:CMP-MT
DTSTART:20100923T120000Z
DTEND:20100923T133000Z
LOCATION:Lecture Room D
CONTACT:F. Franchini
URL:https://diploma-clear.ictp.it/courses/weekly-schedule/lecture-room-d/cmp-mt-15
CLASS:PUBLIC
END:VEVENT
END:VCALENDAR
