BEGIN:VCALENDAR
PRODID:-//AT Content Types//AT Event//EN
VERSION:1.0
BEGIN:VEVENT
DTSTART:20100920T120000Z
DTEND:20100920T133000Z
DCREATED:20100828T111506Z
UID:ATEvent-e88a7819a3a7439d9b7ab2f122499a75
SEQUENCE:0
LAST-MODIFIED:20100828T111540Z
SUMMARY:CMP-MT
LOCATION:Lecture Room D
PRIORITY:3
TRANSP:0
END:VEVENT
END:VCALENDAR
