BEGIN:VCALENDAR
PRODID:-//AT Content Types//AT Event//EN
VERSION:2.0
METHOD:PUBLISH
BEGIN:VEVENT
DTSTAMP:20260425T225707Z
CREATED:20090424T141437Z
UID:ATEvent-6e26c7f5435df154f4d030de06be7125
LAST-MODIFIED:20090424T141559Z
SUMMARY:CMP-MBP tut. 4
DTSTART:20090428T090000Z
DTEND:20090428T103000Z
LOCATION:Lecture Room D
CONTACT:Alexander Nersesyan
URL:https://diploma-clear.ictp.it/courses/weekly-schedule/lecture-room-d/cmp-mbp-tut-4
CLASS:PUBLIC
END:VEVENT
END:VCALENDAR
