BEGIN:VCALENDAR
PRODID:-//AT Content Types//AT Event//EN
VERSION:2.0
METHOD:PUBLISH
BEGIN:VEVENT
DTSTAMP:20260420T195538Z
CREATED:20090304T131246Z
UID:ATEvent-461cc6f41d0a445ff0eb8ad42d5cc172
LAST-MODIFIED:20090304T131345Z
SUMMARY:CMP-MBP
DTSTART:20090421T120000Z
DTEND:20090421T133000Z
LOCATION:Lecture Room D
CONTACT:Alexander Nersesyan
URL:https://diploma-clear.ictp.it/courses/weekly-schedule/lecture-room-d/cmp-mbp-2
CLASS:PUBLIC
END:VEVENT
END:VCALENDAR
