BEGIN:VCALENDAR
PRODID:-//AT Content Types//AT Event//EN
VERSION:2.0
METHOD:PUBLISH
BEGIN:VEVENT
DTSTAMP:20260421T232930Z
CREATED:20090112T110454Z
UID:ATEvent-75cd240f439ad89a8899129a6e56c0ea
LAST-MODIFIED:20090112T110538Z
SUMMARY:CMP-MBP
DTSTART:20090403T120000Z
DTEND:20090403T133000Z
LOCATION:Lecture Room D
CONTACT:Alexander Nersesyan
URL:https://diploma-clear.ictp.it/courses/weekly-schedule/lecture-room-d/cmp-mbp-16
CLASS:PUBLIC
END:VEVENT
END:VCALENDAR
