BEGIN:VCALENDAR
PRODID:-//AT Content Types//AT Event//EN
VERSION:2.0
METHOD:PUBLISH
BEGIN:VEVENT
DTSTAMP:20260420T135001Z
CREATED:20090112T110053Z
UID:ATEvent-bc745c9733806b708a56b9d0f9be747a
LAST-MODIFIED:20090112T110128Z
SUMMARY:CMP-MBP
DTSTART:20090323T130000Z
DTEND:20090323T143000Z
LOCATION:Lecture Room D
CONTACT:Alexander Nersesyan
URL:https://diploma-clear.ictp.it/courses/weekly-schedule/lecture-room-d/cmp-mbp-12
CLASS:PUBLIC
END:VEVENT
END:VCALENDAR
