BEGIN:VCALENDAR
PRODID:-//AT Content Types//AT Event//EN
VERSION:2.0
METHOD:PUBLISH
BEGIN:VEVENT
DTSTAMP:20260420T135011Z
CREATED:20090112T105926Z
UID:ATEvent-41ce8b7ad6ae44d96a2bc60a114f22a8
LAST-MODIFIED:20090414T143739Z
SUMMARY:CMP-MBP tut. 2
DTSTART:20090320T130000Z
DTEND:20090320T143000Z
LOCATION:Lecture Room D
CONTACT:Alexander Nersesyan
URL:https://diploma-clear.ictp.it/courses/weekly-schedule/lecture-room-d/cmp-mbp-11
CLASS:PUBLIC
END:VEVENT
END:VCALENDAR
