BEGIN:VCALENDAR
PRODID:-//AT Content Types//AT Event//EN
VERSION:1.0
BEGIN:VEVENT
DTSTART:20120312T080000Z
DTEND:20120312T093000Z
DCREATED:20120223T105543Z
UID:ATEvent-7f287033252a4b503910b11f9c478412
SEQUENCE:0
LAST-MODIFIED:20120223T105621Z
SUMMARY:CMP-MBF
LOCATION:Lecture Room D
PRIORITY:3
TRANSP:0
END:VEVENT
END:VCALENDAR
