BEGIN:VCALENDAR
PRODID:-//AT Content Types//AT Event//EN
VERSION:1.0
BEGIN:VEVENT
DTSTART:20190225T100000Z
DTEND:20190225T113000Z
DCREATED:20181121T135121Z
UID:ATEvent-f8ddfd57aaa94519b812d6f1e5066410
SEQUENCE:0
LAST-MODIFIED:20181121T135149Z
SUMMARY:CMP-ES
LOCATION:Lecture Room D
PRIORITY:3
TRANSP:0
END:VEVENT
END:VCALENDAR
