BEGIN:VCALENDAR
PRODID:-//AT Content Types//AT Event//EN
VERSION:2.0
METHOD:PUBLISH
BEGIN:VEVENT
DTSTAMP:20260420T195556Z
CREATED:20111219T155628Z
UID:ATEvent-b88735db0e3c07b216311be49beb5eef
LAST-MODIFIED:20111219T155652Z
SUMMARY:CMP-ES
DTSTART:20120419T090000Z
DTEND:20120419T103000Z
LOCATION:Lecture Room D
CONTACT:S. De Gironcoli
URL:https://diploma-clear.ictp.it/courses/weekly-schedule/lecture-room-d/cmp-es-22
CLASS:PUBLIC
END:VEVENT
END:VCALENDAR
