BEGIN:VCALENDAR
PRODID:-//AT Content Types//AT Event//EN
VERSION:1.0
BEGIN:VEVENT
DTSTART:20131126T080000Z
DTEND:20131126T093000Z
DCREATED:20130912T130603Z
UID:ATEvent-91646a159bc94989a06e16b37b303e4b
SEQUENCE:0
LAST-MODIFIED:20130912T130633Z
SUMMARY:CMP-EPS tut. 3
LOCATION:Lecture Room D
PRIORITY:3
TRANSP:0
END:VEVENT
END:VCALENDAR
