BEGIN:VCALENDAR
PRODID:-//AT Content Types//AT Event//EN
VERSION:1.0
BEGIN:VEVENT
DTSTART:20170411T090000Z
DTEND:20170411T103000Z
DCREATED:20170310T090649Z
UID:ATEvent-e76dfcfc5230414494986898c047255c
SEQUENCE:0
LAST-MODIFIED:20170317T094541Z
SUMMARY:CMP-BIO
LOCATION:Lecture Room D
PRIORITY:3
TRANSP:0
END:VEVENT
END:VCALENDAR
