BEGIN:VCALENDAR
PRODID:-//AT Content Types//AT Event//EN
VERSION:1.0
BEGIN:VEVENT
DTSTART:20090415T140000Z
DTEND:20090415T153000Z
DCREATED:20090304T132233Z
UID:ATEvent-b4487a062c91464b49c3e6deacd91ef7
SEQUENCE:0
LAST-MODIFIED:20090304T132318Z
SUMMARY:CMP-BIO
LOCATION:Lecture Room D
PRIORITY:3
TRANSP:0
END:VEVENT
END:VCALENDAR
