BEGIN:VCALENDAR
PRODID:-//AT Content Types//AT Event//EN
VERSION:1.0
BEGIN:VEVENT
DTSTART:20120514T120000Z
DTEND:20120514T133000Z
DCREATED:20120503T140925Z
UID:ATEvent-dd7e6539132089585d9fe60dbf8e8d28
SEQUENCE:0
LAST-MODIFIED:20120503T140953Z
SUMMARY:CMP-BIO
LOCATION:Lecture Room D
PRIORITY:3
TRANSP:0
END:VEVENT
END:VCALENDAR
