BEGIN:VCALENDAR
PRODID:-//AT Content Types//AT Event//EN
VERSION:1.0
BEGIN:VEVENT
DTSTART:20120502T090000Z
DTEND:20120502T103000Z
DCREATED:20111216T150706Z
UID:ATEvent-dfc9e41eacee9411b1c11e9d48c25cef
SEQUENCE:0
LAST-MODIFIED:20120402T160054Z
SUMMARY:CMP-BIO
LOCATION:Lecture Room D
PRIORITY:3
TRANSP:0
END:VEVENT
END:VCALENDAR
