BEGIN:VCALENDAR
PRODID:-//AT Content Types//AT Event//EN
VERSION:1.0
BEGIN:VEVENT
DTSTART:20120430T090000Z
DTEND:20120430T103000Z
DCREATED:20111216T150705Z
UID:ATEvent-999a1833e947d7d0b5388e47b8d5b73c
SEQUENCE:0
LAST-MODIFIED:20120402T160030Z
SUMMARY:CMP-BIO
LOCATION:Lecture Room D
PRIORITY:3
TRANSP:0
END:VEVENT
END:VCALENDAR
