BEGIN:VCALENDAR
PRODID:-//AT Content Types//AT Event//EN
VERSION:1.0
BEGIN:VEVENT
DTSTART:20120427T090000Z
DTEND:20120427T103000Z
DCREATED:20111216T150705Z
UID:ATEvent-cce4c231d1c9bc22f3b8c14bfd62f88d
SEQUENCE:0
LAST-MODIFIED:20120402T155904Z
SUMMARY:CMP-BIO
LOCATION:Lecture Room D
PRIORITY:3
TRANSP:0
END:VEVENT
END:VCALENDAR
