BEGIN:VCALENDAR
PRODID:-//AT Content Types//AT Event//EN
VERSION:1.0
BEGIN:VEVENT
DTSTART:20090327T130000Z
DTEND:20090327T143000Z
DCREATED:20090112T145940Z
UID:ATEvent-58c7e223f0fa8891d218fdceb62cc7ff
SEQUENCE:0
LAST-MODIFIED:20090112T150023Z
SUMMARY:CMP-BIO
LOCATION:Lecture Room D
PRIORITY:3
TRANSP:0
END:VEVENT
END:VCALENDAR
