BEGIN:VCALENDAR
PRODID:-//AT Content Types//AT Event//EN
VERSION:1.0
BEGIN:VEVENT
DTSTART:20120416T090000Z
DTEND:20120416T103000Z
DCREATED:20111216T150703Z
UID:ATEvent-e7c4454bf0cd3c0511988a5bd899873d
SEQUENCE:0
LAST-MODIFIED:20120402T123604Z
SUMMARY:CMP-BIO
LOCATION:Lecture Room D
PRIORITY:3
TRANSP:0
END:VEVENT
END:VCALENDAR
