BEGIN:VCALENDAR
PRODID:-//AT Content Types//AT Event//EN
VERSION:2.0
METHOD:PUBLISH
BEGIN:VEVENT
DTSTAMP:20260421T102342Z
CREATED:20090112T145840Z
UID:ATEvent-eadfe62b52046352a6a3105b2538d546
LAST-MODIFIED:20090112T145927Z
SUMMARY:CMP-BIO
DTSTART:20090326T150000Z
DTEND:20090326T163000Z
LOCATION:Lecture Room D
CONTACT:Michele Vendruscolo
URL:https://diploma-clear.ictp.it/courses/weekly-schedule/lecture-room-d/cmp-bio-2
CLASS:PUBLIC
END:VEVENT
END:VCALENDAR
