BEGIN:VCALENDAR
PRODID:-//AT Content Types//AT Event//EN
VERSION:2.0
METHOD:PUBLISH
BEGIN:VEVENT
DTSTAMP:20260423T122406Z
CREATED:20120216T145453Z
UID:ATEvent-cd4e53c18617716d043c7c55d3ef5220
LAST-MODIFIED:20120220T132557Z
SUMMARY:CMP-ASM tut.
DTSTART:20120223T130000Z
DTEND:20120223T143000Z
LOCATION:Lecture Room D
CONTACT:A. Silva
URL:https://diploma-clear.ictp.it/courses/weekly-schedule/lecture-room-d/cmp-asm-tut-4
CLASS:PUBLIC
END:VEVENT
END:VCALENDAR
