BEGIN:VCALENDAR
PRODID:-//AT Content Types//AT Event//EN
VERSION:1.0
BEGIN:VEVENT
DTSTART:20160530T070000Z
DTEND:20160530T083000Z
DCREATED:20160412T123613Z
UID:ATEvent-800e7494345045bbae6f8c2f8d8517de
SEQUENCE:0
LAST-MODIFIED:20160511T092129Z
SUMMARY:CMP-ASM
LOCATION:Lecture Room D
PRIORITY:3
TRANSP:0
END:VEVENT
END:VCALENDAR
