BEGIN:VCALENDAR
PRODID:-//AT Content Types//AT Event//EN
VERSION:2.0
METHOD:PUBLISH
BEGIN:VEVENT
DTSTAMP:20260422T094509Z
CREATED:20090202T100728Z
UID:ATEvent-c5542808ac95dac58e2b7a99f5f78716
LAST-MODIFIED:20090202T100833Z
SUMMARY:CMP-ASM
DTSTART:20090204T100000Z
DTEND:20090204T113000Z
LOCATION:Lecture Room D
CONTACT:Alessandro Silva
URL:https://diploma-clear.ictp.it/courses/weekly-schedule/lecture-room-d/cmp-asm-2
CLASS:PUBLIC
END:VEVENT
END:VCALENDAR
